BEGIN:VCALENDAR
VERSION:2.0
PRODID:-//Stravitz Sculpture and Fine Art Gallery - ECPv6.15.20//NONSGML v1.0//EN
CALSCALE:GREGORIAN
METHOD:PUBLISH
X-ORIGINAL-URL:https://stravitzartgallery.com
X-WR-CALDESC:Events for Stravitz Sculpture and Fine Art Gallery
REFRESH-INTERVAL;VALUE=DURATION:PT1H
X-Robots-Tag:noindex
X-PUBLISHED-TTL:PT1H
BEGIN:VTIMEZONE
TZID:America/Halifax
BEGIN:DAYLIGHT
TZOFFSETFROM:-0400
TZOFFSETTO:-0300
TZNAME:ADT
DTSTART:20250309T060000
END:DAYLIGHT
BEGIN:STANDARD
TZOFFSETFROM:-0300
TZOFFSETTO:-0400
TZNAME:AST
DTSTART:20251102T050000
END:STANDARD
BEGIN:DAYLIGHT
TZOFFSETFROM:-0400
TZOFFSETTO:-0300
TZNAME:ADT
DTSTART:20260308T060000
END:DAYLIGHT
BEGIN:STANDARD
TZOFFSETFROM:-0300
TZOFFSETTO:-0400
TZNAME:AST
DTSTART:20261101T050000
END:STANDARD
BEGIN:DAYLIGHT
TZOFFSETFROM:-0400
TZOFFSETTO:-0300
TZNAME:ADT
DTSTART:20270314T060000
END:DAYLIGHT
BEGIN:STANDARD
TZOFFSETFROM:-0300
TZOFFSETTO:-0400
TZNAME:AST
DTSTART:20271107T050000
END:STANDARD
END:VTIMEZONE
BEGIN:VEVENT
DTSTART;VALUE=DATE:20260424
DTEND;VALUE=DATE:20260427
DTSTAMP:20260420T230655
CREATED:20260313T155701Z
LAST-MODIFIED:20260416T143338Z
UID:9012-1776988800-1777247999@stravitzartgallery.com
SUMMARY:The Lost Weekend with May Pang
DESCRIPTION:Meet photographer May Pang in person and take a peek into her intimate relationship with John Lennon. \nHer candid photos highlight their 18-month affair referred to as “The Lost Weekend.” This collection highlights Lennon in one of his most highly creative periods of time and is featured in a Netflix documentary entitled “The Lost Weekend: A Love Story.” \nFriday\, April 24 – Saturday\, April 25:  10am – 6pm \nSunday\, April 26:  12pm – 4pm 
URL:https://stravitzartgallery.com/event/the-lost-weekend-with-may-pang/
LOCATION:Stravitz Art Gallery\, 1217 Laskin Rd\, Virginia Beach\, VA\, 23451\, United States
ATTACH;FMTTYPE=image/jpeg:https://stravitzartgallery.com/wp-content/uploads/2026/03/may-pang-flyer.jpg
ORGANIZER;CN="Stravitz Fine Art Gallery":MAILTO:amy.rsgallery@gmail.com
END:VEVENT
END:VCALENDAR